Workbook

Sheet Affiliate Matrix
B1: Meeting Expectations | C1: Exceeds Expectations | D1: Excellence | E1: Notes & Evidence | F1: Assessment
A2: BOARD
A3: Board Information | B3: Provides orientation for all new board members. | C3: Assigns each member a defined role and select a committee chair. | D3: Assigns each member to a committee with defined roles.
A4: Expectations | B4: Maintains clear written expectations of board responsibilities and database compliance, including Regional Director/Operations. | C4: Holds annual review of board expectations and align with affiliate plan. | D4: Reviews individual board members and their roles to assure it aligns with affiliate plan.
A5: Conflict of Interest Documentation | B5: Provides Conflict of Interest documentation. | C5: Signs Conflict of Interest documentation. | D5: Updates regularly Conflict of Interest documentation.
A6: Program Documentation | B6: Provides financial and program documents at board meetings. | C6: Establishes a system for tracking, storing, and destroying documentation. | D6: Maintains board portal with all available materials, reviewing annually.
A7: By-laws Documentation | B7: Provides a copy of approved by-laws. | C7: Reviews by-laws when needed. | D7: Reviews, updates, and files by-laws at least every 3 years.
A8: Members | B8: Determines at least 4 officers, 1 database admin, 1 mentor liaison, treasurer, and 3 other members. | C8: Draws from all ACE industry areas and reflects demographic diversity. | D8: Includes key people from non-industry organizations (e.g. school systems, colleges, and other important community groups).
A9: Meetings & Roles | B9: Attends meetings and participate according to by-laws. | C9: Engages firm in participation in ACE programming. | D9: Creates and implements a succession plan.
A10: Strategic Plan | B10: Reviews the Maturity Matrix and set goals. | C10: Creates a strategic plan and compile evidence. | D10: Reviews strategic plan and data each year and makes adjustments to goals, creating a new strategic plan every 5 years.
A11: Members List | B11: Provides board member list on affiliate website and uploaded in database. | C11: Uploads member list on website and database periodically. | D11: Maintains accurate member list on website and database at all times.
A12: BOARD ADMINISTRATION
A13: Admin/Staff | B13: Designates an adminstrator/mentor liaison and determine how administrative functions are coordinated and assigned. | C13: Maintains a clear plan and process for all administrative functions, including partnerships for volunteer administrative support. | D13: Hires part/full-time staff.
A14: Database | B14: Registers all mentors, students, and board members in the national database with respective requirements completed (i.e. background checks, parent consent forms, status updates with no pending participants), referring to database administrator guide regularly. | C14: Establishes a plan to notify mentors and students, upon registration, with instructions for next steps and expectations. | D14: Utilizes and updates the database to maintain regions, teams, guest speakers, attendance, and assign team leaders for tracking purposes and compliance, while also delegating and maintaining database access.
A15: Communications | B15: Communicates regularly with the board and volunteers. | C15: Regular and consistent communication with board, mentors, parents/guardians, and students. | D15: Produces an annual report or newsletter and oversee communication/outreach for affiliate and student events plus local opportunities.
A16: Compliance | B16: Fulfills all annual compliance requirements, completing the Program Report and pay all invoices by due date. | C16: Uploads up-to-date compliance documents to the affiliate profile in National database with board list updated. | D16: Maintains accurate database records at all times.
A17: Social Media | B17: Establishes social media account(s), assign a person to oversee and monitor all accounts, and follow National accounts. | C17: Posts, shares, tags, announces, and implements a social media plan, while participating in all ACE National social media campaigns. | D17: Maintains consistent social media presence and review social media plan/calendar annually, providing content to ACE National.
A18: National Webinars & Meetings | B18: Participates in mandatory national webinars & trainings and attend annual regional/all affiliate meetings. | C18: Participates in optional, supplemental webinars and trainings. | D18: Presents at annual regional/all affiliates meetings, and presents at local conferences/industry events, collaborating with local universities/colleges and building relationships w/ local industry organizations (smps, AGC, NOMA, etc.).
A19: BOARD COMMITTEES
A20: Committee Types | B20: Maintain at least an executive, financial, and nomination committee. | C20: Provide additional committees including fundraising and student committees. | D20: Add an alumni, mentor, HS externships, or other committees.
A21: Committee Goals | B21: Meet as individual committees. | C21: Determine committee goals. | D21: Create strategic steps to accomplish goals.
A22: BOARD OR COMMITTEE MEMBERS
A23: BUDGET & FUNDRAISING
A24: Financial | B24: Maintain a treasurer as an officer on the board and establish budget. | C24: Expand financial committee that sets financial policies and procedures. | D24: Oversee financial policies and procedures, designating a CPA/Accountant as treasurer.
A25: Financial Documentation | B25: File 990 tax returns regularly, renew charitable registration, state annual report, and send profit & loss balance statements to National. | C25: Monitor financial documentation for compliance. Financial updates given at each board meeting and documented in meeting minutes. | D25: Maintain financial documentation for compliance at all times in Quickbooks or similar accounting software (not Excel).
A26: Financial Accountability | B26: Establish internal system of financial checks and balances divided among different individuals to prevent possible fraud. | C26: Perform informal audit having checks and balances with multiple signatures at banking level. | D26: Engage outside firm for formal annual audit.
A27: Fundraising | B27: Create a reliable stream of contributions to cover costs and provide scholarships. | C27: Establish a fundraising and donor strategy, including grants. | D27: Evaluate fundraising and donor strategy, adjusting as needed, securing multi-year funding.
A28: Reserve Funds | B28: Raise enough money to cover annual affiliate operating expenses, including scholarships. | C28: Accumulate a reserve of 3-9 months all operating expenses. | D28: Accumulate a reserve of 9-12 months all operating expenses, exploring investment opportunities.
A29: STUDENTS
A30: Database Compliance | B30: Register 100% of students by completing the database registration with parent/guardian consent form uploaded. | C30: Establish a system to monitor student documentation throughout the year in database. | D30: Maintain accurate database and ensure compliance.
A31: Student Demographics | B31: Identify gaps in underrepresented local student demographics in the following areas; race, ethnicity, gender, free/reduced lunch. | C31: Create and implement a plan to improve their student demographic profile to reflect that of it local area, targeting underrepresented groups. | D31: Maintain and reflect the local demographic profile in ACE student group.
A32: Student Recruitment & Retention | B32: Create and implement student recruitment and retention plan, encouraging students to participate in ACE National survey. | C32: Track student retention rates and revise plan to increase retention, utilizing student survey results. | D32: Continue to review and revise recruitment and retention strategies, creating student survey to improve affiliate program.
A33: Program | B33: Structure 15-18 week program with a final presentation. | C33: Enrich program with engaging activities, such as guest speakers, construction site visits, job shadowing, and Trades Days. | D33: Align program to provide inclusive and alternative programming.
A34: National Programs | B34: Notify students of National Program opportunities (Externships, Trades Day, Summer Camps, etc.). | C34: Participate in National Program Activities. | D34: Establish a system for tracking student participation in National Program activities.
A35: MENTORS
A36: Registration & Onboarding | B36: Register mentors in the national database with an approved background check and ensure mentors comply with state/county/school volunteer requirements. | C36: Share mentor expectations and onboarding requirements on website and any mentor recruitment materials, while maintaining a system to monitor expired background checks. | D36: Organize mentor onboarding system that is timely and place mentors on appropriate teams, connecting with new mentors before placement during kick-off meeting, virtual call, or personal welcome mail.
A37: Training | B37: Assign affiliate mentor liaison and complete required annual training, providing mentors needed information. | C37: Train and orient all new mentors with a system in place to check on mentor needs. | D37: Create an effective system for supporting mentors, encouraging participation in national mentor trainings, and hosting an annual mentor kick-off/orientation for all mentors.
A38: Appreciation | B38: Thank mentors annually. | C38: Nominate a candidate for the National ENR/ACE Outstanding Mentor Program. | D38: Recognize or spotlight mentors for their contributions and develop effective strategies to maximum mentor retention, including networking opportunities and appreciation events.
A39: Instructional Sessions | B39: Ensure approved mentors attend sessions and implement ACE activities and curriculum over a series of sessions. | C39: Seek guest speakers, plan field trips, and/or unique activities for students with a system to share activities within the affiliate. | D39: Host sessions/opportunities on post-secondary plan and resources, while providing opportunities for mentors to collaborate and share best practices/ struggles/questions through the creation and sharing new hands-on activities for ACE network.
A40: Communications | B40: Maintain a list of active mentors. | C40: Check in with mentors throughout the year. | D40: Survey mentors to evaluate program and modify the program accordingly.
...

Sheet Affiliate At-a-Glance
B1: Assessment
A2: Board Members
A3: Board Information | B3: ='Affiliate Matrix'!F3 -> 0
A4: Expectations | B4: ='Affiliate Matrix'!F4 -> 0
A5: Conflict of Interest Documentation | B5: ='Affiliate Matrix'!F5 -> 0
A6: Program Documentation | B6: ='Affiliate Matrix'!F6 -> 0
A7: By-laws Documentation | B7: ='Affiliate Matrix'!F7 -> 0
A8: Members | B8: ='Affiliate Matrix'!F8 -> 0
A9: Meetings & Roles | B9: ='Affiliate Matrix'!F9 -> 0
A10: Strategic Plan | B10: ='Affiliate Matrix'!F10 -> 0
A11: Members List | B11: ='Affiliate Matrix'!F11 -> 0
A12: Board Administration
A13: Admin/Staff | B13: ='Affiliate Matrix'!F13 -> 0
A14: Database | B14: ='Affiliate Matrix'!F14 -> 0
A15: Communications | B15: ='Affiliate Matrix'!F15 -> 0
A16: Compliance | B16: ='Affiliate Matrix'!F16 -> 0
A17: Social Media | B17: ='Affiliate Matrix'!F17 -> 0
A18: National Webinars & Meetings | B18: ='Affiliate Matrix'!F18 -> 0
A19: Board Committees
A20: Committee Types | B20: ='Affiliate Matrix'!F20 -> 0
A21: Committee Goals | B21: ='Affiliate Matrix'!F21 -> 0
A22: Board or Committee Members
A23: Budget & Fundraising
A24: Financial | B24: ='Affiliate Matrix'!F24 -> 0
A25: Financial Documentation | B25: ='Affiliate Matrix'!F25 -> 0
A26: Financial Accountability | B26: ='Affiliate Matrix'!F26 -> 0
A27: Fundraising | B27: ='Affiliate Matrix'!F27 -> 0
A28: Reserve Funds | B28: ='Affiliate Matrix'!F28 -> 0
A29: Students
A30: Database Compliance | B30: ='Affiliate Matrix'!F30 -> 0
A31: Student Demographics | B31: ='Affiliate Matrix'!F31 -> 0
A32: Student Recruitment & Retention | B32: ='Affiliate Matrix'!F32 -> 0
A33: Program | B33: ='Affiliate Matrix'!F33 -> 0
A34: National Programs | B34: ='Affiliate Matrix'!F34 -> 0
A35: Mentors
A36: Registration & Onboarding | B36: ='Affiliate Matrix'!F36 -> 0
A37: Training | B37: ='Affiliate Matrix'!F37 -> 0
A38: Appreciation | B38: ='Affiliate Matrix'!F38 -> 0
A39: Instructional Sessions | B39: ='Affiliate Matrix'!F39 -> 0
A40: Touchpoint | B40: ='Affiliate Matrix'!F40 -> 0
...
